BEGIN:VCALENDAR
VERSION:2.0
PRODID:-//Nahwärme Bastheim und Geckenau eG - ECPv6.15.20//NONSGML v1.0//EN
CALSCALE:GREGORIAN
METHOD:PUBLISH
X-WR-CALNAME:Nahwärme Bastheim und Geckenau eG
X-ORIGINAL-URL:https://blog.sebastianlandgraf.de
X-WR-CALDESC:Veranstaltungen für Nahwärme Bastheim und Geckenau eG
REFRESH-INTERVAL;VALUE=DURATION:PT1H
X-Robots-Tag:noindex
X-PUBLISHED-TTL:PT1H
BEGIN:VTIMEZONE
TZID:Europe/Berlin
BEGIN:DAYLIGHT
TZOFFSETFROM:+0100
TZOFFSETTO:+0200
TZNAME:CEST
DTSTART:20220327T010000
END:DAYLIGHT
BEGIN:STANDARD
TZOFFSETFROM:+0200
TZOFFSETTO:+0100
TZNAME:CET
DTSTART:20221030T010000
END:STANDARD
BEGIN:DAYLIGHT
TZOFFSETFROM:+0100
TZOFFSETTO:+0200
TZNAME:CEST
DTSTART:20230326T010000
END:DAYLIGHT
BEGIN:STANDARD
TZOFFSETFROM:+0200
TZOFFSETTO:+0100
TZNAME:CET
DTSTART:20231029T010000
END:STANDARD
BEGIN:DAYLIGHT
TZOFFSETFROM:+0100
TZOFFSETTO:+0200
TZNAME:CEST
DTSTART:20240331T010000
END:DAYLIGHT
BEGIN:STANDARD
TZOFFSETFROM:+0200
TZOFFSETTO:+0100
TZNAME:CET
DTSTART:20241027T010000
END:STANDARD
END:VTIMEZONE
BEGIN:VEVENT
DTSTART;TZID=Europe/Berlin:20230618T193000
DTEND;TZID=Europe/Berlin:20230618T210000
DTSTAMP:20260422T122057
CREATED:20230314T111534Z
LAST-MODIFIED:20230608T083451Z
UID:128-1687116600-1687122000@blog.sebastianlandgraf.de
SUMMARY:Treffen der Projektgruppe
DESCRIPTION:Wir wollen den aktuellen Stand besprechen! \nAm Gresselberg 9
URL:https://blog.sebastianlandgraf.de/event/treffen-der-projektgruppe/
LOCATION:Am Gresselberg 9\, Am Gresselberg 9\, Bastheim\, 97654\, Germany
CATEGORIES:Projektgruppe
END:VEVENT
END:VCALENDAR